BEGIN:VCALENDAR
VERSION:2.0
PRODID:-//Schinkels – Brauerei, Restaurant, Events - ECPv6.15.20//NONSGML v1.0//EN
CALSCALE:GREGORIAN
METHOD:PUBLISH
X-WR-CALNAME:Schinkels – Brauerei, Restaurant, Events
X-ORIGINAL-URL:https://www.schinkels-brauhaus.de
X-WR-CALDESC:Veranstaltungen für Schinkels – Brauerei, Restaurant, Events
REFRESH-INTERVAL;VALUE=DURATION:PT1H
X-Robots-Tag:noindex
X-PUBLISHED-TTL:PT1H
BEGIN:VTIMEZONE
TZID:Europe/Berlin
BEGIN:DAYLIGHT
TZOFFSETFROM:+0100
TZOFFSETTO:+0200
TZNAME:CEST
DTSTART:20250330T010000
END:DAYLIGHT
BEGIN:STANDARD
TZOFFSETFROM:+0200
TZOFFSETTO:+0100
TZNAME:CET
DTSTART:20251026T010000
END:STANDARD
BEGIN:DAYLIGHT
TZOFFSETFROM:+0100
TZOFFSETTO:+0200
TZNAME:CEST
DTSTART:20260329T010000
END:DAYLIGHT
BEGIN:STANDARD
TZOFFSETFROM:+0200
TZOFFSETTO:+0100
TZNAME:CET
DTSTART:20261025T010000
END:STANDARD
BEGIN:DAYLIGHT
TZOFFSETFROM:+0100
TZOFFSETTO:+0200
TZNAME:CEST
DTSTART:20270328T010000
END:DAYLIGHT
BEGIN:STANDARD
TZOFFSETFROM:+0200
TZOFFSETTO:+0100
TZNAME:CET
DTSTART:20271031T010000
END:STANDARD
END:VTIMEZONE
BEGIN:VEVENT
DTSTART;TZID=Europe/Berlin:20260304T170000
DTEND;TZID=Europe/Berlin:20260304T200000
DTSTAMP:20260420T085559
CREATED:20240806T082955Z
LAST-MODIFIED:20241007T085334Z
UID:10000061-1772643600-1772654400@www.schinkels-brauhaus.de
SUMMARY:Feierabendbier
DESCRIPTION:Jeden 1. Mittwoch des Monats: Gemütliches Feierabendbier \n\n\nIn unserem Biershop in der Brauerei!\nVerkostet mit uns neue Kreationen\, bei lockerer Musik und kleinen Snacks!
URL:https://www.schinkels-brauhaus.de/event/feierabendbier-2/2026-03-04/
LOCATION:Schinkels Brauerei\, Am Sande 9\, Witzenhausen
END:VEVENT
BEGIN:VEVENT
DTSTART;TZID=Europe/Berlin:20260307T120000
DTEND;TZID=Europe/Berlin:20260307T180000
DTSTAMP:20260420T085559
CREATED:20250902T093604Z
LAST-MODIFIED:20260115T094405Z
UID:10000179-1772884800-1772906400@www.schinkels-brauhaus.de
SUMMARY:Bierseminar - ausgebucht
DESCRIPTION:Hier kommen begeisterte Bierfreunde auf ihre Kosten: In 6 Stunden nehmen wir dich mit auf eine Reise durch die Welt des Bieres. \nLos geht es um 12 Uhr in der Oberburgstraße 10 mit einer gemeinsamen Brotzeit und einer kurzen Vorstellungsrunde aller Teilnehmer*innen. Anschließend wird ein kurzer Spaziergang zur Brauerei unternommen. Dort erfährst du von unserem Braumeister persönlich alles Wissenswerte über die Herstellung des Bieres. Von der Auswahl der Rohstoffe über Schroten\, Maischen\, Läutern bis hin zum Kochen werden Bierkenner zu echten Braumeistern. \nOrt: Oberburgstraße 10\, 37213 Witzenhausen\nBeginn: 12 Uhr\nDauer: ca. 6 Stunden\nLeistung: Mittagessen\, Bier satt\, Abendbrot\nKosten: 80 € pro Person \nGruppentermin nach Anfrage jederzeit möglich. Nimm gerne Kontakt mit uns auf. Mail: info@bier-moment.de oder Telefon: 05542 5059293.\nFür alle\, die sich nicht auf einen festen Termin festlegen möchten: Flexible Wertgutscheine sind hier erhältlich. \nEvent *Datum *Dein Vorname *Deine E-Mail-AdresseDein Nachname *Deine TelefonnummerPersonenanzahl *Namen aller Teilnehmer *Bitte alle Teilnehmer mit Vor- und Nachnamen eintragenHabt ihr einen Gutschein\, oder bezahlt ihr vor OrtGutscheinVor Ort bezahlenDeine Nachricht *Ich habe die Datenschutzerklärung gelesen und akzeptiere die bestimmungsgemäße Verarbeitung der eingegebenen Daten.Vielen Dank für deine Nachricht.×Da hat etwas nicht geklappt\, versuche es erneut.×Absenden
URL:https://www.schinkels-brauhaus.de/event/bierseminar-4/
LOCATION:Schinkels Brauhaus\, Oberburgstraße 10\, Witzenhausen\, Hessen\, 37213\, Deutschland
ATTACH;FMTTYPE=image/jpeg:https://www.schinkels-brauhaus.de/wp-content/uploads/2024/03/Schinkels-15-scaled.jpg
END:VEVENT
BEGIN:VEVENT
DTSTART;TZID=Europe/Berlin:20260328T120000
DTEND;TZID=Europe/Berlin:20260328T170000
DTSTAMP:20260420T085559
CREATED:20250908T101117Z
LAST-MODIFIED:20260202T073521Z
UID:10000190-1774699200-1774717200@www.schinkels-brauhaus.de
SUMMARY:Beef & Beer - ausgebucht
DESCRIPTION:Genieße mit Braumeister Fabio Schinkel und Dipl. Biersommeliere Sarah Schinkel einen lockeren Tag in unserer hauseigenen Brauerei. Gemeinsam werden dort Grillgerichte und verschiedene Biersorten verkostet\, bis neben dem Grill auch der Zapfhahn glüht!\nDaneben erfährst du alles was du über die Hintergründe der Bierherstellung wissen musst und erhältst eine Besichtigung unserer schönen Brauerei. \nOrt: Am Sande 9\, 37213 Witzenhausen\nBeginn: Samstag 12 Uhr\nDauer: ca. 5 Stunden\nKosten: 96 € pro Person \nGruppentermin nach Anfrage jederzeit möglich. Nimm gerne Kontakt mit uns auf. Mail: info@bier-moment.de oder Telefon: 05542 5059293.
URL:https://www.schinkels-brauhaus.de/event/beef-beer-2/
LOCATION:Schinkels Brauerei\, Am Sande 9\, Witzenhausen
ATTACH;FMTTYPE=image/jpeg:https://www.schinkels-brauhaus.de/wp-content/uploads/2024/04/Schinkels-17-scaled.jpg
END:VEVENT
END:VCALENDAR