BEGIN:VCALENDAR
VERSION:2.0
PRODID:-//Schinkels – Brauerei, Restaurant, Events - ECPv6.15.20//NONSGML v1.0//EN
CALSCALE:GREGORIAN
METHOD:PUBLISH
X-WR-CALNAME:Schinkels – Brauerei, Restaurant, Events
X-ORIGINAL-URL:https://www.schinkels-brauhaus.de
X-WR-CALDESC:Veranstaltungen für Schinkels – Brauerei, Restaurant, Events
REFRESH-INTERVAL;VALUE=DURATION:PT1H
X-Robots-Tag:noindex
X-PUBLISHED-TTL:PT1H
BEGIN:VTIMEZONE
TZID:Europe/Berlin
BEGIN:DAYLIGHT
TZOFFSETFROM:+0100
TZOFFSETTO:+0200
TZNAME:CEST
DTSTART:20250330T010000
END:DAYLIGHT
BEGIN:STANDARD
TZOFFSETFROM:+0200
TZOFFSETTO:+0100
TZNAME:CET
DTSTART:20251026T010000
END:STANDARD
BEGIN:DAYLIGHT
TZOFFSETFROM:+0100
TZOFFSETTO:+0200
TZNAME:CEST
DTSTART:20260329T010000
END:DAYLIGHT
BEGIN:STANDARD
TZOFFSETFROM:+0200
TZOFFSETTO:+0100
TZNAME:CET
DTSTART:20261025T010000
END:STANDARD
BEGIN:DAYLIGHT
TZOFFSETFROM:+0100
TZOFFSETTO:+0200
TZNAME:CEST
DTSTART:20270328T010000
END:DAYLIGHT
BEGIN:STANDARD
TZOFFSETFROM:+0200
TZOFFSETTO:+0100
TZNAME:CET
DTSTART:20271031T010000
END:STANDARD
END:VTIMEZONE
BEGIN:VEVENT
DTSTART;TZID=Europe/Berlin:20260425T140000
DTEND;TZID=Europe/Berlin:20260425T170000
DTSTAMP:20260420T065228
CREATED:20250902T093845Z
LAST-MODIFIED:20260202T073331Z
UID:10000181-1777125600-1777136400@www.schinkels-brauhaus.de
SUMMARY:Biertasting - ausgebucht
DESCRIPTION:Du wolltest schon immer mal wissen\, wie ein Bier professionell verkostet wird? Dann tritt mit der Dipl. Biersommelière bei einer Bierverkostung eine Reise durch die Bierlandschaften an. \nErlebe das Genussmittel Bier in völlig neuer Form. Lerne verschiedene Bierspezialitäten kennen und begebe dich auf eine Reise für all deine Sinne. Während einem launigen Vortrag schaust du dir erstmal unsere Brauerei an und erfährst Wissenswertes über die Geschichte\, die Herstellung und die eingesetzten Rohstoffe des Bieres. \nAnschließend verkostest du mit unserer Biersommelière mindestens 8 verschiedene Biere und erlebst wie gut Käse oder Schokolade zu den verschiedenen Bierstilen passt. \nOrt: Am Sande 9\, 37213 Witzenhausen\nBeginn: Samstags 14 Uhr\nDauer: 3 Stunden\nKosten: 50 € pro Person \nGruppentermin nach Anfrage jederzeit möglich. Nimm gerne Kontakt mit uns auf. Mail: info@bier-moment.de oder Telefon: 05542 5059293.
URL:https://www.schinkels-brauhaus.de/event/biertasting-3/
LOCATION:Schinkels Brauerei\, Am Sande 9\, Witzenhausen
ATTACH;FMTTYPE=image/jpeg:https://www.schinkels-brauhaus.de/wp-content/uploads/2024/04/Schinkels-17-scaled.jpg
END:VEVENT
END:VCALENDAR